BEGIN:VCALENDAR
VERSION:2.0
PRODID:-//Houston Area Service Committee of NA - ECPv6.15.18//NONSGML v1.0//EN
CALSCALE:GREGORIAN
METHOD:PUBLISH
X-WR-CALNAME:Houston Area Service Committee of NA
X-ORIGINAL-URL:https://hascona.com
X-WR-CALDESC:Events for Houston Area Service Committee of NA
REFRESH-INTERVAL;VALUE=DURATION:PT1H
X-Robots-Tag:noindex
X-PUBLISHED-TTL:PT1H
BEGIN:VTIMEZONE
TZID:America/Chicago
BEGIN:DAYLIGHT
TZOFFSETFROM:-0600
TZOFFSETTO:-0500
TZNAME:CDT
DTSTART:20250309T080000
END:DAYLIGHT
BEGIN:STANDARD
TZOFFSETFROM:-0500
TZOFFSETTO:-0600
TZNAME:CST
DTSTART:20251102T070000
END:STANDARD
BEGIN:DAYLIGHT
TZOFFSETFROM:-0600
TZOFFSETTO:-0500
TZNAME:CDT
DTSTART:20260308T080000
END:DAYLIGHT
BEGIN:STANDARD
TZOFFSETFROM:-0500
TZOFFSETTO:-0600
TZNAME:CST
DTSTART:20261101T070000
END:STANDARD
BEGIN:DAYLIGHT
TZOFFSETFROM:-0600
TZOFFSETTO:-0500
TZNAME:CDT
DTSTART:20270314T080000
END:DAYLIGHT
BEGIN:STANDARD
TZOFFSETFROM:-0500
TZOFFSETTO:-0600
TZNAME:CST
DTSTART:20271107T070000
END:STANDARD
END:VTIMEZONE
BEGIN:VEVENT
DTSTART;TZID=America/Chicago:20260425T100000
DTEND;TZID=America/Chicago:20260425T140000
DTSTAMP:20260423T095158
CREATED:20260405T151912Z
LAST-MODIFIED:20260405T151912Z
UID:2962-1777111200-1777125600@hascona.com
SUMMARY:OCB Summer Picnic 04-25-26
DESCRIPTION:
URL:https://hascona.com/event/ocb-summer-picnic-04-25-26/
LOCATION:Sgt J.R. Hatch Park\, 17525 Katy Fwy\, Houston\, Texas\, 77094\, United States
ATTACH;FMTTYPE=image/jpeg:https://hascona.com/wp-content/uploads/2026/04/OCB-Summer-Picnic-04-25-26.jpg
END:VEVENT
BEGIN:VEVENT
DTSTART;TZID=America/Chicago:20260425T133000
DTEND;TZID=America/Chicago:20260425T170000
DTSTAMP:20260423T095158
CREATED:20260420T232028Z
LAST-MODIFIED:20260420T232028Z
UID:2979-1777123800-1777136400@hascona.com
SUMMARY:NA Workshop at The Journey Continues Group
DESCRIPTION:
URL:https://hascona.com/event/na-workshop-at-the-journey-continues-group/
LOCATION:4203 Ave. H Rosenberg\, 4203 Ave H.\, Rosenberg\, TX\, 77471
ATTACH;FMTTYPE=image/png:https://hascona.com/wp-content/uploads/2026/04/NA-Workshop-Event.png
END:VEVENT
END:VCALENDAR