BEGIN:VCALENDAR
VERSION:2.0
PRODID:-//Houston Area Service Committee of NA - ECPv6.15.18//NONSGML v1.0//EN
CALSCALE:GREGORIAN
METHOD:PUBLISH
X-WR-CALNAME:Houston Area Service Committee of NA
X-ORIGINAL-URL:https://hascona.com
X-WR-CALDESC:Events for Houston Area Service Committee of NA
REFRESH-INTERVAL;VALUE=DURATION:PT1H
X-Robots-Tag:noindex
X-PUBLISHED-TTL:PT1H
BEGIN:VTIMEZONE
TZID:America/Chicago
BEGIN:DAYLIGHT
TZOFFSETFROM:-0600
TZOFFSETTO:-0500
TZNAME:CDT
DTSTART:20250309T080000
END:DAYLIGHT
BEGIN:STANDARD
TZOFFSETFROM:-0500
TZOFFSETTO:-0600
TZNAME:CST
DTSTART:20251102T070000
END:STANDARD
BEGIN:DAYLIGHT
TZOFFSETFROM:-0600
TZOFFSETTO:-0500
TZNAME:CDT
DTSTART:20260308T080000
END:DAYLIGHT
BEGIN:STANDARD
TZOFFSETFROM:-0500
TZOFFSETTO:-0600
TZNAME:CST
DTSTART:20261101T070000
END:STANDARD
BEGIN:DAYLIGHT
TZOFFSETFROM:-0600
TZOFFSETTO:-0500
TZNAME:CDT
DTSTART:20270314T080000
END:DAYLIGHT
BEGIN:STANDARD
TZOFFSETFROM:-0500
TZOFFSETTO:-0600
TZNAME:CST
DTSTART:20271107T070000
END:STANDARD
END:VTIMEZONE
BEGIN:VEVENT
DTSTART;TZID=America/Chicago:20260322T130000
DTEND;TZID=America/Chicago:20260322T160000
DTSTAMP:20260423T145516
CREATED:20260118T154318Z
LAST-MODIFIED:20260118T154318Z
UID:2873-1774184400-1774195200@hascona.com
SUMMARY:Hope Sweet Hope 10th Anniversary
DESCRIPTION:
URL:https://hascona.com/event/hope-sweet-hope-10th-anniversary/
LOCATION:800 Pitts Road\, Richmond TX 77406\, 800 Pitts Road\, Richmond\, TX\, 77046\, United States
ATTACH;FMTTYPE=image/png:https://hascona.com/wp-content/uploads/2026/01/HSH-10th-Anniversary-Flyer.png
END:VEVENT
BEGIN:VEVENT
DTSTART;TZID=America/Chicago:20260320T200000
DTEND;TZID=America/Chicago:20260320T210000
DTSTAMP:20260423T145516
CREATED:20260316T011021Z
LAST-MODIFIED:20260316T011021Z
UID:2938-1774036800-1774040400@hascona.com
SUMMARY:CFF Speaker Meeting
DESCRIPTION:
URL:https://hascona.com/event/cff-speaker-meeting/
LOCATION:Chance For Freedom\, 3940 Vista Rd.\, Pasadena\, TX\, 77504\, United States
ATTACH;FMTTYPE=image/jpeg:https://hascona.com/wp-content/uploads/2026/03/CFF-Speaker-Meeting-03-20-26.jpg
END:VEVENT
BEGIN:VEVENT
DTSTART;TZID=America/Chicago:20260320T140000
DTEND;TZID=America/Chicago:20260322T130000
DTSTAMP:20260423T145516
CREATED:20260215T130105Z
LAST-MODIFIED:20260215T130105Z
UID:2891-1774015200-1774184400@hascona.com
SUMMARY:Fellowship By the Lake 2026
DESCRIPTION:FBTL 2026 flyer 03-20-03-22
URL:https://hascona.com/event/fellowship-by-the-lake-2026/
LOCATION:Huntsville State Park
ATTACH;FMTTYPE=application/pdf:https://hascona.com/wp-content/uploads/2026/02/FBTL-2026-flyer-03-20-03-22-1.pdf
END:VEVENT
BEGIN:VEVENT
DTSTART;TZID=America/Chicago:20260315T150000
DTEND;TZID=America/Chicago:20260315T180000
DTSTAMP:20260423T145516
CREATED:20260309T011150Z
LAST-MODIFIED:20260309T011150Z
UID:2926-1773586800-1773597600@hascona.com
SUMMARY:Alive and Kicking Workshop Event
DESCRIPTION:
URL:https://hascona.com/event/alive-and-kicking-workshop-event/
LOCATION:Alive and Kicking\, 4925 Griggs Rd\, Houston\, TC\, 77021\, United States
ATTACH;FMTTYPE=image/png:https://hascona.com/wp-content/uploads/2026/03/Alive-and-Kicking-Workshop-03-15-26.png
END:VEVENT
BEGIN:VEVENT
DTSTART;TZID=America/Chicago:20260314T120000
DTEND;TZID=America/Chicago:20260314T180000
DTSTAMP:20260423T145516
CREATED:20260304T031302Z
LAST-MODIFIED:20260304T031302Z
UID:2919-1773489600-1773511200@hascona.com
SUMMARY:Beauty In Recovery Fish Fry
DESCRIPTION:Come on out to Beauty of Recovery fish fry March 14th pdf
URL:https://hascona.com/event/beauty-in-recovery-fish-fry/
LOCATION:Gulf Coast Club\, 14540 Minetta St\, Houstpn\, TX\, 77035\, United States
ATTACH;FMTTYPE=application/pdf:https://hascona.com/wp-content/uploads/2026/03/Come-on-out-to-Beauty-of-Recovery-fish-fry-March-14th-pdf-1.pdf
END:VEVENT
BEGIN:VEVENT
DTSTART;TZID=America/Chicago:20260311T180000
DTEND;TZID=America/Chicago:20260311T190000
DTSTAMP:20260423T145516
CREATED:20260215T131615Z
LAST-MODIFIED:20260222T162154Z
UID:2900-1773252000-1773255600@hascona.com
SUMMARY:Area Activities Sub-Committee Announcement
DESCRIPTION:
URL:https://hascona.com/event/area-activities-sub-committee-announcement/
LOCATION:ZOOM Meeting\, Meeting ID 83692129840\, Central\, TX\, United States
ATTACH;FMTTYPE=image/png:https://hascona.com/wp-content/uploads/2026/02/ASC-SA-1.png
END:VEVENT
BEGIN:VEVENT
DTSTART;TZID=America/Chicago:20260306T120000
DTEND;TZID=America/Chicago:20260308T130000
DTSTAMP:20260423T145516
CREATED:20260215T125446Z
LAST-MODIFIED:20260215T125446Z
UID:2887-1772798400-1772974800@hascona.com
SUMMARY:Tejas Bluebonnet Regional Convention
DESCRIPTION:Tejas Bluebonnet Regional Convention Flyer
URL:https://hascona.com/event/tejas-bluebonnet-regional-convention/
LOCATION:Westin Colonnade\, 9821 Colonnade Blvd TX 78230\, San Antonio\, 78230
ATTACH;FMTTYPE=application/pdf:https://hascona.com/wp-content/uploads/2026/02/Tejas-Bluebonnet-Regional-Convention-Flyer-1.pdf
END:VEVENT
BEGIN:VEVENT
DTSTART;TZID=America/Chicago:20260227T180000
DTEND;TZID=America/Chicago:20260227T220000
DTSTAMP:20260423T145516
CREATED:20260125T195409Z
LAST-MODIFIED:20260125T195409Z
UID:2879-1772215200-1772229600@hascona.com
SUMMARY:Alive and Kicking Recovery and Romance Dance
DESCRIPTION:
URL:https://hascona.com/event/alive-and-kicking-recovery-and-romance-dance/
LOCATION:Alive and Kicking\, 4925 Griggs Rd\, Houston\, TC\, 77021\, United States
ATTACH;FMTTYPE=image/jpeg:https://hascona.com/wp-content/uploads/2026/01/Alive-and-Kicking-Recovery-and-Romance-Dance-02-27-26.jpg
END:VEVENT
BEGIN:VEVENT
DTSTART;TZID=America/Chicago:20260221T110000
DTEND;TZID=America/Chicago:20260221T160000
DTSTAMP:20260423T145516
CREATED:20260120T000515Z
LAST-MODIFIED:20260120T000515Z
UID:2876-1771671600-1771689600@hascona.com
SUMMARY:HASCONA CAR Workshop
DESCRIPTION:
URL:https://hascona.com/event/hascona-car-workshop/
LOCATION:Gulf Coast Club\, 14540 Minetta St\, Houstpn\, TX\, 77035\, United States
ATTACH;FMTTYPE=image/png:https://hascona.com/wp-content/uploads/2026/01/HASCONA-CAR-Workshop-02-21-26.png
END:VEVENT
BEGIN:VEVENT
DTSTART;TZID=America/Chicago:20260204T190000
DTEND;TZID=America/Chicago:20260204T210000
DTSTAMP:20260423T145516
CREATED:20260215T131040Z
LAST-MODIFIED:20260215T131040Z
UID:2896-1770231600-1770238800@hascona.com
SUMMARY:New Heights 1st Wednesday Game Nights
DESCRIPTION:
URL:https://hascona.com/event/new-heights-1st-wednesday-game-nights/
LOCATION:New Heights\, 1245 Heights Blvd\, Houston\, TX\, 77008
ATTACH;FMTTYPE=image/jpeg:https://hascona.com/wp-content/uploads/2026/02/New-Heights-NA-1st-Wednesdays-1.jpg
END:VEVENT
END:VCALENDAR